BEGIN:VCALENDAR
VERSION:2.0
PRODID:-//FeG Wedel Homepage - ECPv6.15.20//NONSGML v1.0//EN
CALSCALE:GREGORIAN
METHOD:PUBLISH
X-ORIGINAL-URL:https://www.feg-wedel.de
X-WR-CALDESC:Veranstaltungen für FeG Wedel Homepage
REFRESH-INTERVAL;VALUE=DURATION:PT1H
X-Robots-Tag:noindex
X-PUBLISHED-TTL:PT1H
BEGIN:VTIMEZONE
TZID:Europe/Berlin
BEGIN:DAYLIGHT
TZOFFSETFROM:+0100
TZOFFSETTO:+0200
TZNAME:CEST
DTSTART:20190331T010000
END:DAYLIGHT
BEGIN:STANDARD
TZOFFSETFROM:+0200
TZOFFSETTO:+0100
TZNAME:CET
DTSTART:20191027T010000
END:STANDARD
BEGIN:DAYLIGHT
TZOFFSETFROM:+0100
TZOFFSETTO:+0200
TZNAME:CEST
DTSTART:20200329T010000
END:DAYLIGHT
BEGIN:STANDARD
TZOFFSETFROM:+0200
TZOFFSETTO:+0100
TZNAME:CET
DTSTART:20201025T010000
END:STANDARD
BEGIN:DAYLIGHT
TZOFFSETFROM:+0100
TZOFFSETTO:+0200
TZNAME:CEST
DTSTART:20210328T010000
END:DAYLIGHT
BEGIN:STANDARD
TZOFFSETFROM:+0200
TZOFFSETTO:+0100
TZNAME:CET
DTSTART:20211031T010000
END:STANDARD
END:VTIMEZONE
BEGIN:VEVENT
DTSTART;TZID=Europe/Berlin:20200328T140000
DTEND;TZID=Europe/Berlin:20200328T160000
DTSTAMP:20260422T071944
CREATED:20200202T194627Z
LAST-MODIFIED:20200314T112509Z
UID:29892-1585404000-1585411200@www.feg-wedel.de
SUMMARY:Jahreslosung 2020 - Collagen - fällt aus!
DESCRIPTION:Lobpreis\, Gestalten und Nachspüren\nFinde über das Erstellen einer Collage heraus\, wie sich das Wort GOTTes in Deinem Leben entfalten will.\nEs entsteht ein sehr persönliches Bild mit Tiefenwirkung. Künstlerisches Talent ist nicht erforderlich\, aber Freude am Gestalten und eine gesunde Neugier auf die Bilder\, die sich zeigen wollen. \nAbschluss: gemeinsames Kaffee trinken \nAnleitung und Unterstützung durch Kursleiterin (Jutta Matthiessen)\, die Materialien werden gestellt. Kleine Materialspende ins Schwein (Die Arche Jenfeld) erwünscht. \nMaterialien:\nIllustrierten\, Bilder\nAcrylfarbe\nGlitter\, Federn u. andere Materialien \nGerne kannst du ein Portraitfoto von Dir mitbringen.
URL:https://www.feg-wedel.de/veranstaltung/jahreslosung-2020-collagen/
LOCATION:Gemeindehaus FeG Wedel\, Höbüschentwiete 11\, Wedel\, 22880\, Deutschland
CATEGORIES:Für Frauen,Für Männer
ATTACH;FMTTYPE=image/jpeg:https://www.feg-wedel.de/wp-content/uploads/2020/02/collage_800x450.jpg
ORGANIZER;CN="FeG Wedel":MAILTO:gemeindebuero@feg-wedel.de
END:VEVENT
END:VCALENDAR