BEGIN:VCALENDAR
VERSION:2.0
PRODID:-//FeG Wedel Homepage - ECPv6.15.20//NONSGML v1.0//EN
CALSCALE:GREGORIAN
METHOD:PUBLISH
X-ORIGINAL-URL:https://www.feg-wedel.de
X-WR-CALDESC:Veranstaltungen für FeG Wedel Homepage
REFRESH-INTERVAL;VALUE=DURATION:PT1H
X-Robots-Tag:noindex
X-PUBLISHED-TTL:PT1H
BEGIN:VTIMEZONE
TZID:Europe/Berlin
BEGIN:DAYLIGHT
TZOFFSETFROM:+0100
TZOFFSETTO:+0200
TZNAME:CEST
DTSTART:20200329T010000
END:DAYLIGHT
BEGIN:STANDARD
TZOFFSETFROM:+0200
TZOFFSETTO:+0100
TZNAME:CET
DTSTART:20201025T010000
END:STANDARD
BEGIN:DAYLIGHT
TZOFFSETFROM:+0100
TZOFFSETTO:+0200
TZNAME:CEST
DTSTART:20210328T010000
END:DAYLIGHT
BEGIN:STANDARD
TZOFFSETFROM:+0200
TZOFFSETTO:+0100
TZNAME:CET
DTSTART:20211031T010000
END:STANDARD
BEGIN:DAYLIGHT
TZOFFSETFROM:+0100
TZOFFSETTO:+0200
TZNAME:CEST
DTSTART:20220327T010000
END:DAYLIGHT
BEGIN:STANDARD
TZOFFSETFROM:+0200
TZOFFSETTO:+0100
TZNAME:CET
DTSTART:20221030T010000
END:STANDARD
END:VTIMEZONE
BEGIN:VEVENT
DTSTART;TZID=Europe/Berlin:20210803T000000
DTEND;TZID=Europe/Berlin:20210817T000000
DTSTAMP:20260423T061128
CREATED:20210726T134939Z
LAST-MODIFIED:20240520T133901Z
UID:33114-1627948800-1629158400@www.feg-wedel.de
SUMMARY:FeG Auslandshilfe 2021
DESCRIPTION:Ja – es geht wieder los! Endlich können wir wieder für die FeGN Auslandshilfe eine Kleider- und Lebensmittelaktion für Bulgarien/Sliven starten!\nWir wollen nach den Sommerferien am 03.08.2021 beginnen. Ihr habt dann zwei Wochen Zeit\, Kartons mit Kleidung-/ oder Lebensmittel zu packen und in der FeG Wedel abzugeben.\n\n  \nDie Lebensmittelkartons und die Flyer liegen ab 03.08.2021 im Foyer aus und können zu den Öffnungszeiten des Gemeindebüros (Di und Fr von 09.00 – 12.00 Uhr) abgeholt werden. Oder ihr nehmt sie sonntags nach dem Gottesdienst mit. \n\nFür die Kleidersammlung besorgt euch bitte wieder Bananenkartons (REWE\, EDEKA\, etc.)\, die sind stabil und überstehen den Transport gut. An Bekleidung bitte nur sauber gewaschene\, gut erhaltene und gepflegte Kleidung abgeben. Die Menschen sollen sich auch an der Kleidung erfreuen können.\nAbgabe der Kartons ist spätestens der 17.08.2021 im Foyer an der Garderobe (zu den Öffnungszeiten Gemeindebüro).\nIhr habt natürlich auch die Möglichkeit\, eine Spende auf das Konto der FeG Auslandshilfe(IBAN: DE37 4526 0475 0010 6147 00) einzuzahlen.\nHelfende Hände zum Sortieren und Verpacken der Kleidung sind jederzeit herzlich willkommen.\n\nNähere Infos dann zu gegebener Zeit. Wenn ihr Fragen habt – sprecht uns gerne an (Heidrun: 01 73 – 9 80 09 70). Vorab schon mal Danke für eure Gaben. Seid behütet. \n\nH. Bartecki und D. Czygan\n\n\n\n\n\nBildquelle: https://auslandshilfe.feg.de/mitmachen/aktionen-2/pakete-zum-leben
URL:https://www.feg-wedel.de/veranstaltung/feg-auslandshilfe-2021/
LOCATION:Gemeindehaus FeG Wedel\, Höbüschentwiete 11\, Wedel\, 22880\, Deutschland
CATEGORIES:Aktuell,Für Frauen,Für Kinder,Für Männer
ATTACH;FMTTYPE=image/jpeg:https://www.feg-wedel.de/wp-content/uploads/2021/07/feg-auslandshilfe-2021_800x450.jpg
END:VEVENT
END:VCALENDAR