BEGIN:VCALENDAR
VERSION:2.0
PRODID:-//FeG Wedel Homepage - ECPv6.15.20//NONSGML v1.0//EN
CALSCALE:GREGORIAN
METHOD:PUBLISH
X-ORIGINAL-URL:https://www.feg-wedel.de
X-WR-CALDESC:Veranstaltungen für FeG Wedel Homepage
REFRESH-INTERVAL;VALUE=DURATION:PT1H
X-Robots-Tag:noindex
X-PUBLISHED-TTL:PT1H
BEGIN:VTIMEZONE
TZID:Europe/Berlin
BEGIN:DAYLIGHT
TZOFFSETFROM:+0100
TZOFFSETTO:+0200
TZNAME:CEST
DTSTART:20200329T010000
END:DAYLIGHT
BEGIN:STANDARD
TZOFFSETFROM:+0200
TZOFFSETTO:+0100
TZNAME:CET
DTSTART:20201025T010000
END:STANDARD
BEGIN:DAYLIGHT
TZOFFSETFROM:+0100
TZOFFSETTO:+0200
TZNAME:CEST
DTSTART:20210328T010000
END:DAYLIGHT
BEGIN:STANDARD
TZOFFSETFROM:+0200
TZOFFSETTO:+0100
TZNAME:CET
DTSTART:20211031T010000
END:STANDARD
BEGIN:DAYLIGHT
TZOFFSETFROM:+0100
TZOFFSETTO:+0200
TZNAME:CEST
DTSTART:20220327T010000
END:DAYLIGHT
BEGIN:STANDARD
TZOFFSETFROM:+0200
TZOFFSETTO:+0100
TZNAME:CET
DTSTART:20221030T010000
END:STANDARD
END:VTIMEZONE
BEGIN:VEVENT
DTSTART;TZID=Europe/Berlin:20211224T160000
DTEND;TZID=Europe/Berlin:20211224T170000
DTSTAMP:20260423T193423
CREATED:20211215T191713Z
LAST-MODIFIED:20221220T110328Z
UID:33614-1640361600-1640365200@www.feg-wedel.de
SUMMARY:Heiligabend-Gottesdienst
DESCRIPTION:Wir bitten um eure Anmeldung für den Heiligabend-Gottesdienst. Meldet euch bitte bis zum 21.12.2021 um 12 Uhr mit einer Email an diese Adresse an: finanzen@feg-wedel.de\nDa wir begrenzte Plätze haben\, benötigen wir die Angabe\, mit wie vielen Personen (Gäste/Familie…) ihr kommt. Bitte nicht vergessen\, dass wir die 3G Regel befolgen. Während des ganzen Gottesdienstes besteht Maskenpflicht. \nAls 3G-Nachweis sind neben einem Lichtbildausweis mitzubringen: \n\nein Nachweis über die vollständige Impfung gegen Corona oder\nein ärztlich bestätigter Nachweis über die Genesung oder\nein negatives Testergebnis (Antigen-Schnelltest nicht älter als 24 Stunden\, PCR-Test nicht  älter als 48 Stunden\, kein Selbsttest)\n\nWir bieten auch einen Livestream an: Aus datenschutzrechtlichen Gründen benötigt YouTube Ihre Einwilligung um geladen zu werden. Mehr Informationen finden Sie unter Datenschutzerklärung.Akzeptieren
URL:https://www.feg-wedel.de/veranstaltung/heiligabend-gottesdienst-2021/
LOCATION:Gemeindehaus FeG Wedel\, Höbüschentwiete 11\, Wedel\, 22880\, Deutschland
CATEGORIES:Feier,Gottesdienst
ATTACH;FMTTYPE=image/jpeg:https://www.feg-wedel.de/wp-content/uploads/2020/12/heiligabend-gottesdienst-2020_800x450.jpg
ORGANIZER;CN="FeG Wedel":MAILTO:gemeindebuero@feg-wedel.de
END:VEVENT
END:VCALENDAR