BEGIN:VCALENDAR
VERSION:2.0
PRODID:-//FeG Wedel Homepage - ECPv6.15.20//NONSGML v1.0//EN
CALSCALE:GREGORIAN
METHOD:PUBLISH
X-ORIGINAL-URL:https://www.feg-wedel.de
X-WR-CALDESC:Veranstaltungen für FeG Wedel Homepage
REFRESH-INTERVAL;VALUE=DURATION:PT1H
X-Robots-Tag:noindex
X-PUBLISHED-TTL:PT1H
BEGIN:VTIMEZONE
TZID:Europe/Berlin
BEGIN:DAYLIGHT
TZOFFSETFROM:+0100
TZOFFSETTO:+0200
TZNAME:CEST
DTSTART:20210328T010000
END:DAYLIGHT
BEGIN:STANDARD
TZOFFSETFROM:+0200
TZOFFSETTO:+0100
TZNAME:CET
DTSTART:20211031T010000
END:STANDARD
BEGIN:DAYLIGHT
TZOFFSETFROM:+0100
TZOFFSETTO:+0200
TZNAME:CEST
DTSTART:20220327T010000
END:DAYLIGHT
BEGIN:STANDARD
TZOFFSETFROM:+0200
TZOFFSETTO:+0100
TZNAME:CET
DTSTART:20221030T010000
END:STANDARD
BEGIN:DAYLIGHT
TZOFFSETFROM:+0100
TZOFFSETTO:+0200
TZNAME:CEST
DTSTART:20230326T010000
END:DAYLIGHT
BEGIN:STANDARD
TZOFFSETFROM:+0200
TZOFFSETTO:+0100
TZNAME:CET
DTSTART:20231029T010000
END:STANDARD
END:VTIMEZONE
BEGIN:VEVENT
DTSTART;TZID=Europe/Berlin:20220612T110000
DTEND;TZID=Europe/Berlin:20220612T120000
DTSTAMP:20260424T032040
CREATED:20220608T172359Z
LAST-MODIFIED:20220618T115857Z
UID:34551-1655031600-1655035200@www.feg-wedel.de
SUMMARY:Wedeler Hafenfest 2022
DESCRIPTION:Vom 10. – 12.06.2022 findet in Wedel das Hafenfest statt. \nAm Sonntag\, den 12.06. gestaltet die ACK (Arbeitsgemeinschaft christlicher Kirchen in Wedel) den Gottesdienst von 11:00 – 12:00 Uhr. Unser Pastor Markus Mosch wird zum Thema „Sicherer Hafen“ predigen und unsere Musiker gestalten den Lobpreis. Zudem ist eine Theaterszene geplant. \nWir werden als FeG Wedel mit einem Stand auf dem Hafenfestgelände vertreten sein.
URL:https://www.feg-wedel.de/veranstaltung/hafenfest-wedel-2022/
CATEGORIES:Besondere Veranstaltung,Feier,Gottesdienst
ATTACH;FMTTYPE=image/jpeg:https://www.feg-wedel.de/wp-content/uploads/2022/06/hafenfest-wedel-2022d_800x450.jpg
END:VEVENT
END:VCALENDAR