BEGIN:VCALENDAR
VERSION:2.0
PRODID:-//FeG Wedel Homepage - ECPv6.15.20//NONSGML v1.0//EN
CALSCALE:GREGORIAN
METHOD:PUBLISH
X-WR-CALNAME:FeG Wedel Homepage
X-ORIGINAL-URL:https://www.feg-wedel.de
X-WR-CALDESC:Veranstaltungen für FeG Wedel Homepage
REFRESH-INTERVAL;VALUE=DURATION:PT1H
X-Robots-Tag:noindex
X-PUBLISHED-TTL:PT1H
BEGIN:VTIMEZONE
TZID:Europe/Berlin
BEGIN:DAYLIGHT
TZOFFSETFROM:+0100
TZOFFSETTO:+0200
TZNAME:CEST
DTSTART:20220327T010000
END:DAYLIGHT
BEGIN:STANDARD
TZOFFSETFROM:+0200
TZOFFSETTO:+0100
TZNAME:CET
DTSTART:20221030T010000
END:STANDARD
BEGIN:DAYLIGHT
TZOFFSETFROM:+0100
TZOFFSETTO:+0200
TZNAME:CEST
DTSTART:20230326T010000
END:DAYLIGHT
BEGIN:STANDARD
TZOFFSETFROM:+0200
TZOFFSETTO:+0100
TZNAME:CET
DTSTART:20231029T010000
END:STANDARD
BEGIN:DAYLIGHT
TZOFFSETFROM:+0100
TZOFFSETTO:+0200
TZNAME:CEST
DTSTART:20240331T010000
END:DAYLIGHT
BEGIN:STANDARD
TZOFFSETFROM:+0200
TZOFFSETTO:+0100
TZNAME:CET
DTSTART:20241027T010000
END:STANDARD
END:VTIMEZONE
BEGIN:VEVENT
DTSTART;TZID=Europe/Berlin:20230506T103000
DTEND;TZID=Europe/Berlin:20230506T163000
DTSTAMP:20260423T222354
CREATED:20230413T163150Z
LAST-MODIFIED:20230413T163300Z
UID:35979-1683369000-1683390600@www.feg-wedel.de
SUMMARY:be.longing
DESCRIPTION:Sein. Sehnsucht. Zugehörigkeit – ein Tag für Frauen.\nAm 6. Mai 2023 findet der Tag für Frauen unter dem Motto “Be.longing” in der Evangeliumshalle in Marburg statt. Auch als Livestream. \nAlle Informationen rund um den Tag findest du auf: frauentag.feg.de
URL:https://www.feg-wedel.de/veranstaltung/be-longing/
CATEGORIES:Für Frauen
ATTACH;FMTTYPE=image/jpeg:https://www.feg-wedel.de/wp-content/uploads/2023/04/be-longing-frauen_2023-05_800x450.jpg
END:VEVENT
END:VCALENDAR