BEGIN:VCALENDAR
VERSION:2.0
PRODID:-//FeG Wedel Homepage - ECPv6.15.20//NONSGML v1.0//EN
CALSCALE:GREGORIAN
METHOD:PUBLISH
X-WR-CALNAME:FeG Wedel Homepage
X-ORIGINAL-URL:https://www.feg-wedel.de
X-WR-CALDESC:Veranstaltungen für FeG Wedel Homepage
REFRESH-INTERVAL;VALUE=DURATION:PT1H
X-Robots-Tag:noindex
X-PUBLISHED-TTL:PT1H
BEGIN:VTIMEZONE
TZID:Europe/Berlin
BEGIN:DAYLIGHT
TZOFFSETFROM:+0100
TZOFFSETTO:+0200
TZNAME:CEST
DTSTART:20220327T010000
END:DAYLIGHT
BEGIN:STANDARD
TZOFFSETFROM:+0200
TZOFFSETTO:+0100
TZNAME:CET
DTSTART:20221030T010000
END:STANDARD
BEGIN:DAYLIGHT
TZOFFSETFROM:+0100
TZOFFSETTO:+0200
TZNAME:CEST
DTSTART:20230326T010000
END:DAYLIGHT
BEGIN:STANDARD
TZOFFSETFROM:+0200
TZOFFSETTO:+0100
TZNAME:CET
DTSTART:20231029T010000
END:STANDARD
BEGIN:DAYLIGHT
TZOFFSETFROM:+0100
TZOFFSETTO:+0200
TZNAME:CEST
DTSTART:20240331T010000
END:DAYLIGHT
BEGIN:STANDARD
TZOFFSETFROM:+0200
TZOFFSETTO:+0100
TZNAME:CET
DTSTART:20241027T010000
END:STANDARD
END:VTIMEZONE
BEGIN:VEVENT
DTSTART;TZID=Europe/Berlin:20230518T160000
DTEND;TZID=Europe/Berlin:20230518T190000
DTSTAMP:20260423T222511
CREATED:20230515T192237Z
LAST-MODIFIED:20230515T192523Z
UID:35999-1684425600-1684436400@www.feg-wedel.de
SUMMARY:Erdbeerfest
DESCRIPTION:Wir wollen zusammen feiern… mit Erdbeeren in allen Variationen: \nin Schokolade\nim Salat\nals Kuchen\ngetrocknet\ngefroren\nam Stiel\npur\nals Shake etc.. \nWas es sonst noch so gibt? Kaffee\, kalte Getränke\, Sitzplätze\, Spiel\, Spaß und Segen
URL:https://www.feg-wedel.de/veranstaltung/erdbeerfest/
LOCATION:Gemeindehaus FeG Wedel\, Höbüschentwiete 11\, Wedel\, 22880\, Deutschland
CATEGORIES:Besondere Veranstaltung,Feier,Für Frauen,Für Kinder,Für Männer
ATTACH;FMTTYPE=image/jpeg:https://www.feg-wedel.de/wp-content/uploads/2023/05/erdbeeren_800x450.jpg
ORGANIZER;CN="FeG Wedel":MAILTO:gemeindebuero@feg-wedel.de
END:VEVENT
END:VCALENDAR