BEGIN:VCALENDAR
VERSION:2.0
PRODID:-//FeG Wedel Homepage - ECPv6.15.20//NONSGML v1.0//EN
CALSCALE:GREGORIAN
METHOD:PUBLISH
X-ORIGINAL-URL:https://www.feg-wedel.de
X-WR-CALDESC:Veranstaltungen für FeG Wedel Homepage
REFRESH-INTERVAL;VALUE=DURATION:PT1H
X-Robots-Tag:noindex
X-PUBLISHED-TTL:PT1H
BEGIN:VTIMEZONE
TZID:Europe/Berlin
BEGIN:DAYLIGHT
TZOFFSETFROM:+0100
TZOFFSETTO:+0200
TZNAME:CEST
DTSTART:20220327T010000
END:DAYLIGHT
BEGIN:STANDARD
TZOFFSETFROM:+0200
TZOFFSETTO:+0100
TZNAME:CET
DTSTART:20221030T010000
END:STANDARD
BEGIN:DAYLIGHT
TZOFFSETFROM:+0100
TZOFFSETTO:+0200
TZNAME:CEST
DTSTART:20230326T010000
END:DAYLIGHT
BEGIN:STANDARD
TZOFFSETFROM:+0200
TZOFFSETTO:+0100
TZNAME:CET
DTSTART:20231029T010000
END:STANDARD
BEGIN:DAYLIGHT
TZOFFSETFROM:+0100
TZOFFSETTO:+0200
TZNAME:CEST
DTSTART:20240331T010000
END:DAYLIGHT
BEGIN:STANDARD
TZOFFSETFROM:+0200
TZOFFSETTO:+0100
TZNAME:CET
DTSTART:20241027T010000
END:STANDARD
END:VTIMEZONE
BEGIN:VEVENT
DTSTART;TZID=Europe/Berlin:20230916T143000
DTEND;TZID=Europe/Berlin:20230916T173000
DTSTAMP:20260423T163051
CREATED:20230820T185424Z
LAST-MODIFIED:20230911T191542Z
UID:36267-1694874600-1694885400@www.feg-wedel.de
SUMMARY:Familien-Mutmach-Tag
DESCRIPTION:Spiel * Spaß * Action * Musik * Theater * Kreativ\nImpulse für den Alltag\n\n\n \nEin Erlebnistag für Kinder und Eltern. Mit Teamaufgaben\, die das Miteinander fördern. Beziehungswerte und eigene Stärken werden entdeckt und Impulse für den Familienalltag mitgenommen. \nFür Familien mit Kindern von 3 bis 12 Jahren. Kleinere Geschwister sind willkommen! \nAusklang mit Grillen ab 17:30 Uhr\n\n\n.\n\n\nAnmeldung verlängert bis zum 15. September 2023 unter familienmutmachtag@feg-wedel.de (begrenzte Plätze!)\n\n\n\n 
URL:https://www.feg-wedel.de/veranstaltung/familien-mutmach-tag/
LOCATION:Gemeindehaus FeG Wedel\, Höbüschentwiete 11\, Wedel\, 22880\, Deutschland
CATEGORIES:Aktuell,Besondere Veranstaltung,Für Frauen,Für Kinder,Für Männer
ATTACH;FMTTYPE=image/jpeg:https://www.feg-wedel.de/wp-content/uploads/2023/08/familien-mutmach-2023_800x450.jpg
ORGANIZER;CN="FeG Wedel":MAILTO:gemeindebuero@feg-wedel.de
END:VEVENT
END:VCALENDAR