BEGIN:VCALENDAR
VERSION:2.0
PRODID:-//FeG Wedel Homepage - ECPv6.15.20//NONSGML v1.0//EN
CALSCALE:GREGORIAN
METHOD:PUBLISH
X-ORIGINAL-URL:https://www.feg-wedel.de
X-WR-CALDESC:Veranstaltungen für FeG Wedel Homepage
REFRESH-INTERVAL;VALUE=DURATION:PT1H
X-Robots-Tag:noindex
X-PUBLISHED-TTL:PT1H
BEGIN:VTIMEZONE
TZID:Europe/Berlin
BEGIN:DAYLIGHT
TZOFFSETFROM:+0100
TZOFFSETTO:+0200
TZNAME:CEST
DTSTART:20220327T010000
END:DAYLIGHT
BEGIN:STANDARD
TZOFFSETFROM:+0200
TZOFFSETTO:+0100
TZNAME:CET
DTSTART:20221030T010000
END:STANDARD
BEGIN:DAYLIGHT
TZOFFSETFROM:+0100
TZOFFSETTO:+0200
TZNAME:CEST
DTSTART:20230326T010000
END:DAYLIGHT
BEGIN:STANDARD
TZOFFSETFROM:+0200
TZOFFSETTO:+0100
TZNAME:CET
DTSTART:20231029T010000
END:STANDARD
BEGIN:DAYLIGHT
TZOFFSETFROM:+0100
TZOFFSETTO:+0200
TZNAME:CEST
DTSTART:20240331T010000
END:DAYLIGHT
BEGIN:STANDARD
TZOFFSETFROM:+0200
TZOFFSETTO:+0100
TZNAME:CET
DTSTART:20241027T010000
END:STANDARD
END:VTIMEZONE
BEGIN:VEVENT
DTSTART;TZID=Europe/Berlin:20231102T200000
DTEND;TZID=Europe/Berlin:20231102T213000
DTSTAMP:20260423T132128
CREATED:20231002T161514Z
LAST-MODIFIED:20231101T215207Z
UID:35691-1698955200-1698960600@www.feg-wedel.de
SUMMARY:Life on Stage
DESCRIPTION:Musicals & Message\nWahre Lebensgeschichten: Es sind keine Hollywood-Helden – Thomas\, Claudia und Melanie sind Menschen wie du und ich. Ihre Vergangenheit könnte nicht unterschiedlicher sein und doch erlebten sie alle dasselbe. In größter Hoffnungslosigkeit begegneten sie einem Gott\, der ihr Leben von Grund auf veränderte. \nAm Dienstag den 31. Oktober geht es los mit den “Life on Stage”-Abenden. Jeweils um 20:00 wird die Sporthalle Hamburg der Austragungsort für “Musicals & Message” – echte Lebensgeschichten von echten Erfahrungen mit Gott. \n\n\n\nDienstag\, 31. Oktober\n20:00 Uhr\nClaudia – Suche nach Heilung\n\n\nMittwoch\, 1. November\n20:00 Uhr\nThomas – Leben auf die harte Tour\n\n\nDonnerstag\, 2. November\n20:00 Uhr\nThomas – Leben auf die harte Tour\n\n\nFreitag\, 3. November\n20:00 Uhr\nMelanie – Bleib bei mir\, Mama\n\n\nSamstag\, 4. November\n20:00 Uhr\nMelanie – Bleib bei mir\, Mama
URL:https://www.feg-wedel.de/veranstaltung/life-on-stage/
CATEGORIES:Konferenz,Musik,Theater,Vortrag
ATTACH;FMTTYPE=image/png:https://www.feg-wedel.de/wp-content/uploads/2023/02/life-on-stage-banner_800x450.png
END:VEVENT
END:VCALENDAR