BEGIN:VCALENDAR
VERSION:2.0
PRODID:-//FeG Wedel Homepage - ECPv6.15.20//NONSGML v1.0//EN
CALSCALE:GREGORIAN
METHOD:PUBLISH
X-ORIGINAL-URL:https://www.feg-wedel.de
X-WR-CALDESC:Veranstaltungen für FeG Wedel Homepage
REFRESH-INTERVAL;VALUE=DURATION:PT1H
X-Robots-Tag:noindex
X-PUBLISHED-TTL:PT1H
BEGIN:VTIMEZONE
TZID:Europe/Berlin
BEGIN:DAYLIGHT
TZOFFSETFROM:+0100
TZOFFSETTO:+0200
TZNAME:CEST
DTSTART:20220327T010000
END:DAYLIGHT
BEGIN:STANDARD
TZOFFSETFROM:+0200
TZOFFSETTO:+0100
TZNAME:CET
DTSTART:20221030T010000
END:STANDARD
BEGIN:DAYLIGHT
TZOFFSETFROM:+0100
TZOFFSETTO:+0200
TZNAME:CEST
DTSTART:20230326T010000
END:DAYLIGHT
BEGIN:STANDARD
TZOFFSETFROM:+0200
TZOFFSETTO:+0100
TZNAME:CET
DTSTART:20231029T010000
END:STANDARD
BEGIN:DAYLIGHT
TZOFFSETFROM:+0100
TZOFFSETTO:+0200
TZNAME:CEST
DTSTART:20240331T010000
END:DAYLIGHT
BEGIN:STANDARD
TZOFFSETFROM:+0200
TZOFFSETTO:+0100
TZNAME:CET
DTSTART:20241027T010000
END:STANDARD
END:VTIMEZONE
BEGIN:VEVENT
DTSTART;TZID=Europe/Berlin:20231125T150000
DTEND;TZID=Europe/Berlin:20231125T170000
DTSTAMP:20260421T225923
CREATED:20231002T183735Z
LAST-MODIFIED:20231002T183735Z
UID:36435-1700924400-1700931600@www.feg-wedel.de
SUMMARY:Kaffeekränzchen
DESCRIPTION:Wir wollen mit euch gemeinsam Kaffee trinken\, Torte und Kuchen essen. Dabei haben wir Zeit zum Klönen\, Lachen\, Zuhören und Genießen.\n\nZieht euch gerne schick an und kommt mit einer möglichst alten Handtasche.\n\nDamit wir auch für alle einen Platz und genug Torte haben\, meldet euch bitte bis zum 15.11.2023 an unter gemeindebuero@feg-wedel.de
URL:https://www.feg-wedel.de/veranstaltung/kaffeekraenzchen/
LOCATION:Gemeindehaus FeG Wedel\, Höbüschentwiete 11\, Wedel\, 22880\, Deutschland
CATEGORIES:Für Frauen
ATTACH;FMTTYPE=image/jpeg:https://www.feg-wedel.de/wp-content/uploads/2023/10/kaffeekraenzchen-2023_800x450.jpg
ORGANIZER;CN="FeG Wedel":MAILTO:gemeindebuero@feg-wedel.de
END:VEVENT
END:VCALENDAR