BEGIN:VCALENDAR
VERSION:2.0
PRODID:-//FeG Wedel Homepage - ECPv6.15.20//NONSGML v1.0//EN
CALSCALE:GREGORIAN
METHOD:PUBLISH
X-WR-CALNAME:FeG Wedel Homepage
X-ORIGINAL-URL:https://www.feg-wedel.de
X-WR-CALDESC:Veranstaltungen für FeG Wedel Homepage
REFRESH-INTERVAL;VALUE=DURATION:PT1H
X-Robots-Tag:noindex
X-PUBLISHED-TTL:PT1H
BEGIN:VTIMEZONE
TZID:Europe/Berlin
BEGIN:DAYLIGHT
TZOFFSETFROM:+0100
TZOFFSETTO:+0200
TZNAME:CEST
DTSTART:20190331T010000
END:DAYLIGHT
BEGIN:STANDARD
TZOFFSETFROM:+0200
TZOFFSETTO:+0100
TZNAME:CET
DTSTART:20191027T010000
END:STANDARD
BEGIN:DAYLIGHT
TZOFFSETFROM:+0100
TZOFFSETTO:+0200
TZNAME:CEST
DTSTART:20200329T010000
END:DAYLIGHT
BEGIN:STANDARD
TZOFFSETFROM:+0200
TZOFFSETTO:+0100
TZNAME:CET
DTSTART:20201025T010000
END:STANDARD
BEGIN:DAYLIGHT
TZOFFSETFROM:+0100
TZOFFSETTO:+0200
TZNAME:CEST
DTSTART:20210328T010000
END:DAYLIGHT
BEGIN:STANDARD
TZOFFSETFROM:+0200
TZOFFSETTO:+0100
TZNAME:CET
DTSTART:20211031T010000
END:STANDARD
END:VTIMEZONE
BEGIN:VEVENT
DTSTART;VALUE=DATE:20200418
DTEND;VALUE=DATE:20200419
DTSTAMP:20260422T121350
CREATED:20200313T182037Z
LAST-MODIFIED:20200416T180012Z
UID:30758-1587168000-1587254399@www.feg-wedel.de
SUMMARY:Information zum Corona-Virus
DESCRIPTION:Eine aktuelle Stellungnahme unseres Pastors Markus Mosch: Stellungnahme zum Coronavirus \nTerminausfälle:\n\nAb Sonntag\, den 15.03.\, fallen alle Gottesdienste\, Abendgottesdienste\, Bibelstunden\, der Klaviernachmittag etc. aus\nDer Frühjahrsputz findet nicht statt\n\nGemeindebüro:\nDas Gemeindebüro schließt bis auf Weiteres. Wir werden ab Donnerstag 19.03. nur noch im Home-Office erreichbar sein. \n\nMarkus Mosch\, Pastor: 0176-34843096 // 04103-1871710\nAnne Schlingheider\, Jugendreferentin: 0159-04233476 // 04103-9630171\n\nPraktische Hilfe:\nWir möchten allen\, die aufgrund der Krise zuhause bleiben\, unsere praktische Hilfe anbieten (Botengänge\, Einkaufen\, CD vom Gottesdienst\,…).\nBitte meldet euch bei uns! \nEuer Leitungskreis \nMarkus Mosch – 0176-34843096 // 04103-1871710\nArne Brinkop\nAndrea Offe\nHenning Knautz\nNorbert Prey\nOrge Balack \nKontaktverbot vom 22. März 2020:\n\nDie Bürger werden aufgefordert\, die Kontakte auf ein absolutes Minimum zu reduzieren.\nDarüber hinaus muss in der Öffentlichkeit ein Mindestabstand von mindestens 1\,5 Metern eingehalten werden.\nDer Aufenthalt im öffentlichen Raum ist nur allein\, mit einer anderen im Haushalt lebenden Person oder mit Mitgliedern des eigenen Haushalts erlaubt.\nEinkaufen\, Arztbesuche\, zur Arbeit gehen und sich an der frischen Luft bewegen sind nach wie vor erlaubt\nFeiern in Gruppen an öffentlichen und privaten Orten sind verboten.\nGastronomiebetriebe werden geschlossen\, außer für die Lieferung und Abholung von Lebensmitteln zum Mitnehmen.\nDienstleistungsunternehmen im Bereich der persönlichen Hygiene (Tätowierstudios\, Massagestudios\, Friseure) werden geschlossen. Es gibt keine Einschränkungen im medizinischen Bereich.\nIn allen Einrichtungen und Betrieben ist es wichtig\, die Hygienevorschriften einzuhalten.\nDie getroffenen Maßnahmen gelten (zunächst) zwei Wochen lang.\n\nVerhaltensregeln:\n\nKeine Begrüßung mit Händeschütteln und Umarmen\nHäufiges und gründliches Händewaschen\nHusten und Niesen in die Armbeuge
URL:https://www.feg-wedel.de/veranstaltung/information-zum-corona-virus/
CATEGORIES:Aktuell,Für Frauen,Für Kinder,Für Männer,Gottesdienst
ATTACH;FMTTYPE=image/jpeg:https://www.feg-wedel.de/wp-content/uploads/2020/03/corona-virus-nett_800x450-1.jpg
END:VEVENT
END:VCALENDAR