BEGIN:VCALENDAR
VERSION:2.0
PRODID:-//FeG Wedel Homepage - ECPv6.15.20//NONSGML v1.0//EN
CALSCALE:GREGORIAN
METHOD:PUBLISH
X-WR-CALNAME:FeG Wedel Homepage
X-ORIGINAL-URL:https://www.feg-wedel.de
X-WR-CALDESC:Veranstaltungen für FeG Wedel Homepage
REFRESH-INTERVAL;VALUE=DURATION:PT1H
X-Robots-Tag:noindex
X-PUBLISHED-TTL:PT1H
BEGIN:VTIMEZONE
TZID:Europe/Berlin
BEGIN:DAYLIGHT
TZOFFSETFROM:+0100
TZOFFSETTO:+0200
TZNAME:CEST
DTSTART:20190331T010000
END:DAYLIGHT
BEGIN:STANDARD
TZOFFSETFROM:+0200
TZOFFSETTO:+0100
TZNAME:CET
DTSTART:20191027T010000
END:STANDARD
BEGIN:DAYLIGHT
TZOFFSETFROM:+0100
TZOFFSETTO:+0200
TZNAME:CEST
DTSTART:20200329T010000
END:DAYLIGHT
BEGIN:STANDARD
TZOFFSETFROM:+0200
TZOFFSETTO:+0100
TZNAME:CET
DTSTART:20201025T010000
END:STANDARD
BEGIN:DAYLIGHT
TZOFFSETFROM:+0100
TZOFFSETTO:+0200
TZNAME:CEST
DTSTART:20210328T010000
END:DAYLIGHT
BEGIN:STANDARD
TZOFFSETFROM:+0200
TZOFFSETTO:+0100
TZNAME:CET
DTSTART:20211031T010000
END:STANDARD
END:VTIMEZONE
BEGIN:VEVENT
DTSTART;TZID=Europe/Berlin:20200912T093000
DTEND;TZID=Europe/Berlin:20200912T160000
DTSTAMP:20260422T164445
CREATED:20200818T190934Z
LAST-MODIFIED:20200824T182510Z
UID:32246-1599903000-1599926400@www.feg-wedel.de
SUMMARY:WIREINANDER  - DER GEMEINDETAG IM NORDEN
DESCRIPTION:Ein Tag voller Impulse und Begegnungen für Gemeindebegeisterte aller Generationen!\nAm 12. September 2020 LIVE vor Ort in der CityChurch Hamburg\, veranstaltet von der Stiftung Freie evangelische Gemeinde in Norddeutschland. \nEs warten 10 tolle Workshops auf euch. Ein Tag\, ein Ziel\, viele Optionen: wireinander. \nJetzt anmelden! \nAlle Informationen zu Programm und Anmeldung unter fegn.de/wireinander\nEs gibt auch die Möglichkeit\, am WIReinander-Tag per Zoom teilzunehmen.
URL:https://www.feg-wedel.de/veranstaltung/wireinander-der-gemeindetag-im-norden/
LOCATION:CityChurch Hamburg\, Michaelispassage 1\, Hamburg\, Hamburg\, 20459\, Deutschland
CATEGORIES:Für Frauen,Für Kinder,Für Männer,Konferenz
ATTACH;FMTTYPE=image/png:https://www.feg-wedel.de/wp-content/uploads/2020/08/200817_FB_WIReinander_LIVE.png
END:VEVENT
BEGIN:VEVENT
DTSTART;TZID=Europe/Berlin:20200926T093000
DTEND;TZID=Europe/Berlin:20200926T150000
DTSTAMP:20260422T164445
CREATED:20200912T162740Z
LAST-MODIFIED:20200912T162740Z
UID:32438-1601112600-1601132400@www.feg-wedel.de
SUMMARY:Stille Tag
DESCRIPTION:Wir werden zusammen einen kleinen Input zum Thema „Sich selbst geistlich leiten“ hören und dann zu verschiedenen Fragen mit Gott ins Gespräch zu gehen und dabei fasten.\nDer Input wird sich via Livestream verfügbar sein. \nBitte meldet euch bis Freitag 25.09. – 12:00 Uhr im Gemeindebüro an.
URL:https://www.feg-wedel.de/veranstaltung/stille-tag/
LOCATION:Gemeindehaus FeG Wedel\, Höbüschentwiete 11\, Wedel\, 22880\, Deutschland
CATEGORIES:Für Frauen,Für Kinder,Für Männer
ATTACH;FMTTYPE=image/jpeg:https://www.feg-wedel.de/wp-content/uploads/2020/09/stille_800x450.jpg
ORGANIZER;CN="FeG Wedel":MAILTO:gemeindebuero@feg-wedel.de
END:VEVENT
END:VCALENDAR