BEGIN:VCALENDAR
VERSION:2.0
PRODID:-//FeG Wedel Homepage - ECPv6.15.20//NONSGML v1.0//EN
CALSCALE:GREGORIAN
METHOD:PUBLISH
X-WR-CALNAME:FeG Wedel Homepage
X-ORIGINAL-URL:https://www.feg-wedel.de
X-WR-CALDESC:Veranstaltungen für FeG Wedel Homepage
REFRESH-INTERVAL;VALUE=DURATION:PT1H
X-Robots-Tag:noindex
X-PUBLISHED-TTL:PT1H
BEGIN:VTIMEZONE
TZID:Europe/Berlin
BEGIN:DAYLIGHT
TZOFFSETFROM:+0100
TZOFFSETTO:+0200
TZNAME:CEST
DTSTART:20200329T010000
END:DAYLIGHT
BEGIN:STANDARD
TZOFFSETFROM:+0200
TZOFFSETTO:+0100
TZNAME:CET
DTSTART:20201025T010000
END:STANDARD
BEGIN:DAYLIGHT
TZOFFSETFROM:+0100
TZOFFSETTO:+0200
TZNAME:CEST
DTSTART:20210328T010000
END:DAYLIGHT
BEGIN:STANDARD
TZOFFSETFROM:+0200
TZOFFSETTO:+0100
TZNAME:CET
DTSTART:20211031T010000
END:STANDARD
BEGIN:DAYLIGHT
TZOFFSETFROM:+0100
TZOFFSETTO:+0200
TZNAME:CEST
DTSTART:20220327T010000
END:DAYLIGHT
BEGIN:STANDARD
TZOFFSETFROM:+0200
TZOFFSETTO:+0100
TZNAME:CET
DTSTART:20221030T010000
END:STANDARD
END:VTIMEZONE
BEGIN:VEVENT
DTSTART;TZID=Europe/Berlin:20210404T103000
DTEND;TZID=Europe/Berlin:20210404T123000
DTSTAMP:20260423T001317
CREATED:20210317T200025Z
LAST-MODIFIED:20230401T140545Z
UID:32976-1617532200-1617539400@www.feg-wedel.de
SUMMARY:Ostergottesdienst 2021
DESCRIPTION:Herzliche Einladung zum Ostergottesdienst am 04.04.! \nEs wird an diesem Sonntag keinen „normalen“ Gottesdienst vor Ort geben\, sondern „nur“ einen Gottesdienst per Livestream bei euch zuhause. Wir wünschen uns\, dass wir alle zusammen zur gleichen Zeit an unterschiedlichen Orten diesen Gottesdienst feiern.\nDer Gottesdienst ist eine bunte Mischung aus verschiedenen Programmpunkten. Mit Musik\, Theater\, kurzen Inputs und Vielem mehr wollen wir Menschen Ostern erklären und sie zu Jesus einladen. \nDer Gottesdienst startet nicht zur gewohnten Zeit\, sondern erst um 11:00 Uhr. Eine halbe Stunde vorher (ab 10:30 Uhr) wird es eine kleine WarmUp-Show geben\, bei der ihr gerne mit einschalten könnt und euch bei entspanntem\, lockerem Programm „warm“ machen könnt\, um dann zum Gottesdienst bereit zu sein. Diese WarmUp-Show ist optional und gehört nicht fest zum Gottesdienst dazu. Allerdings lohnt es sich\, dafür schon einzuschalten! \n\nABLAUF: \n10:00 Uhr      Starte bei dir zuhause mit einem Brunch (gerne mit Gästen).\n10:30 Uhr      Schalte zur WarmUp Show ein (über den Livestream-Link).\n11:00 Uhr      Feier´ mit uns Gottesdienst. \n  \nANMELDUNG: \nMelde dich und deine Gäste bis zum 28.03. im Gemeindebüro an\, damit du ein Paket bekommst und bei allen Specials mitmachen kannst.\ngemeindebuero@feg-wedel.de // 0159-04233476 \nHier geht´s zum Livestream: https://youtu.be/uoD4RkbKDII \n  \nWir freuen uns auf dich!\nLiebe Grüße\, dein Ostersonntag-Team \nAnne Schlingheider\nGemeindereferentin FeG Wedel\nHöbüschentwiete 11\, 22880 Wedel\nTel: 0159 04233476\nwww.feg-wedel.de
URL:https://www.feg-wedel.de/veranstaltung/ostergottesdienst-2021/
LOCATION:Gemeindehaus FeG Wedel\, Höbüschentwiete 11\, Wedel\, 22880\, Deutschland
CATEGORIES:Feier,Gottesdienst
ATTACH;FMTTYPE=image/jpeg:https://www.feg-wedel.de/wp-content/uploads/2021/03/oster-godi-2021.jpg
ORGANIZER;CN="FeG Wedel":MAILTO:gemeindebuero@feg-wedel.de
END:VEVENT
END:VCALENDAR