BEGIN:VCALENDAR
VERSION:2.0
PRODID:-//FeG Wedel Homepage - ECPv6.15.20//NONSGML v1.0//EN
CALSCALE:GREGORIAN
METHOD:PUBLISH
X-WR-CALNAME:FeG Wedel Homepage
X-ORIGINAL-URL:https://www.feg-wedel.de
X-WR-CALDESC:Veranstaltungen für FeG Wedel Homepage
REFRESH-INTERVAL;VALUE=DURATION:PT1H
X-Robots-Tag:noindex
X-PUBLISHED-TTL:PT1H
BEGIN:VTIMEZONE
TZID:Europe/Berlin
BEGIN:DAYLIGHT
TZOFFSETFROM:+0100
TZOFFSETTO:+0200
TZNAME:CEST
DTSTART:20200329T010000
END:DAYLIGHT
BEGIN:STANDARD
TZOFFSETFROM:+0200
TZOFFSETTO:+0100
TZNAME:CET
DTSTART:20201025T010000
END:STANDARD
BEGIN:DAYLIGHT
TZOFFSETFROM:+0100
TZOFFSETTO:+0200
TZNAME:CEST
DTSTART:20210328T010000
END:DAYLIGHT
BEGIN:STANDARD
TZOFFSETFROM:+0200
TZOFFSETTO:+0100
TZNAME:CET
DTSTART:20211031T010000
END:STANDARD
BEGIN:DAYLIGHT
TZOFFSETFROM:+0100
TZOFFSETTO:+0200
TZNAME:CEST
DTSTART:20220327T010000
END:DAYLIGHT
BEGIN:STANDARD
TZOFFSETFROM:+0200
TZOFFSETTO:+0100
TZNAME:CET
DTSTART:20221030T010000
END:STANDARD
END:VTIMEZONE
BEGIN:VEVENT
DTSTART;TZID=Europe/Berlin:20210911T093000
DTEND;TZID=Europe/Berlin:20210911T163000
DTSTAMP:20260423T074751
CREATED:20210828T104821Z
LAST-MODIFIED:20210911T091538Z
UID:33158-1631352600-1631377800@www.feg-wedel.de
SUMMARY:WIReinander-Tag 2021
DESCRIPTION:Der diesjährige WIReinander-Tag steht unter dem Motto ER tut gut – und WIR einander! \nAm Samstag den 11.9.2021 freuen wir uns auf spannende Vorträge\, Workshops und Gemeinschaft – mit Dir live vor Ort in der CityChurch Hamburg (wenn Corona es zulässt). \nAm Sonntag den 12.9.2021 feiern wir um 10 Uhr einen abschließenden Gottesdienst aus der FeG Lüneburg\, der online übertragen wird: www.feg-lueneburg.church \nAnmeldung
URL:https://www.feg-wedel.de/veranstaltung/wireinander-tag-2021/
LOCATION:CityChurch Hamburg\, Michaelispassage 1\, Hamburg\, Hamburg\, 20459\, Deutschland
ATTACH;FMTTYPE=image/jpeg:https://www.feg-wedel.de/wp-content/uploads/2021/08/2021_WIReinander.jpg
END:VEVENT
END:VCALENDAR