BEGIN:VCALENDAR
VERSION:2.0
PRODID:-//FeG Wedel Homepage - ECPv6.15.20//NONSGML v1.0//EN
CALSCALE:GREGORIAN
METHOD:PUBLISH
X-ORIGINAL-URL:https://www.feg-wedel.de
X-WR-CALDESC:Veranstaltungen für FeG Wedel Homepage
REFRESH-INTERVAL;VALUE=DURATION:PT1H
X-Robots-Tag:noindex
X-PUBLISHED-TTL:PT1H
BEGIN:VTIMEZONE
TZID:Europe/Berlin
BEGIN:DAYLIGHT
TZOFFSETFROM:+0100
TZOFFSETTO:+0200
TZNAME:CEST
DTSTART:20220327T010000
END:DAYLIGHT
BEGIN:STANDARD
TZOFFSETFROM:+0200
TZOFFSETTO:+0100
TZNAME:CET
DTSTART:20221030T010000
END:STANDARD
BEGIN:DAYLIGHT
TZOFFSETFROM:+0100
TZOFFSETTO:+0200
TZNAME:CEST
DTSTART:20230326T010000
END:DAYLIGHT
BEGIN:STANDARD
TZOFFSETFROM:+0200
TZOFFSETTO:+0100
TZNAME:CET
DTSTART:20231029T010000
END:STANDARD
BEGIN:DAYLIGHT
TZOFFSETFROM:+0100
TZOFFSETTO:+0200
TZNAME:CEST
DTSTART:20240331T010000
END:DAYLIGHT
BEGIN:STANDARD
TZOFFSETFROM:+0200
TZOFFSETTO:+0100
TZNAME:CET
DTSTART:20241027T010000
END:STANDARD
END:VTIMEZONE
BEGIN:VEVENT
DTSTART;VALUE=DATE:20230212
DTEND;VALUE=DATE:20230213
DTSTAMP:20260424T014233
CREATED:20230208T192809Z
LAST-MODIFIED:20230215T195057Z
UID:35703-1676160000-1676246399@www.feg-wedel.de
SUMMARY:"Gott-liebt-dich-Aktion" zum Valentinstag
DESCRIPTION:Vielleicht habt ihr ja nette Nachbarn\, gute Freunde oder Kollegen und Kolleginnen\, denen ihr gerne ein Zeichen geben würdet\, dass Gott sie\nlieb hat.\nDafür könnt ihr am nächsten Sonntag (12.02.23) eine kleine Box mitnehmen\, eine Karte\, eine Kerze\, Schleierkraut und einen Zettel mit\nIdeen\, womit ihr die Box noch füllen könntet.\nDann könnt ihr am 14.02.23 die Menschen beschenken\, die euch auf dem Herzen liegen. \nWir freuen uns\, wenn ihr viele Menschen beschenkt.\nLiebe Grüße vom Eventteam
URL:https://www.feg-wedel.de/veranstaltung/gott-liebt-dich-aktion-zum-valentinstag/
CATEGORIES:Aktuell
ATTACH;FMTTYPE=image/jpeg:https://www.feg-wedel.de/wp-content/uploads/2023/02/balloons_800x450.jpg
END:VEVENT
END:VCALENDAR