BEGIN:VCALENDAR
VERSION:2.0
PRODID:-//FeG Wedel Homepage - ECPv6.15.20//NONSGML v1.0//EN
CALSCALE:GREGORIAN
METHOD:PUBLISH
X-WR-CALNAME:FeG Wedel Homepage
X-ORIGINAL-URL:https://www.feg-wedel.de
X-WR-CALDESC:Veranstaltungen für FeG Wedel Homepage
REFRESH-INTERVAL;VALUE=DURATION:PT1H
X-Robots-Tag:noindex
X-PUBLISHED-TTL:PT1H
BEGIN:VTIMEZONE
TZID:Europe/Berlin
BEGIN:DAYLIGHT
TZOFFSETFROM:+0100
TZOFFSETTO:+0200
TZNAME:CEST
DTSTART:20220327T010000
END:DAYLIGHT
BEGIN:STANDARD
TZOFFSETFROM:+0200
TZOFFSETTO:+0100
TZNAME:CET
DTSTART:20221030T010000
END:STANDARD
BEGIN:DAYLIGHT
TZOFFSETFROM:+0100
TZOFFSETTO:+0200
TZNAME:CEST
DTSTART:20230326T010000
END:DAYLIGHT
BEGIN:STANDARD
TZOFFSETFROM:+0200
TZOFFSETTO:+0100
TZNAME:CET
DTSTART:20231029T010000
END:STANDARD
BEGIN:DAYLIGHT
TZOFFSETFROM:+0100
TZOFFSETTO:+0200
TZNAME:CEST
DTSTART:20240331T010000
END:DAYLIGHT
BEGIN:STANDARD
TZOFFSETFROM:+0200
TZOFFSETTO:+0100
TZNAME:CET
DTSTART:20241027T010000
END:STANDARD
END:VTIMEZONE
BEGIN:VEVENT
DTSTART;TZID=Europe/Berlin:20231216T190000
DTEND;TZID=Europe/Berlin:20231216T210000
DTSTAMP:20260421T121408
CREATED:20231213T195507Z
LAST-MODIFIED:20231213T200616Z
UID:36805-1702753200-1702760400@www.feg-wedel.de
SUMMARY:Christmas Time Again
DESCRIPTION:Das Weihnachtskonzert \nvon Nathan Elcox \nmit Live Band \nOlivier Stritt – Martin Ulleweit – Markus Weber \nund “Special Guest” \nMae Ann Jorolan \n\nEintritt: Spende\, Plätze nach Verfügbarkeit
URL:https://www.feg-wedel.de/veranstaltung/christmas-time-again/
LOCATION:Gemeindehaus FeG Wedel\, Höbüschentwiete 11\, Wedel\, 22880\, Deutschland
CATEGORIES:Musik
ATTACH;FMTTYPE=image/jpeg:https://www.feg-wedel.de/wp-content/uploads/2023/12/christmas-time-konzert_800x450.jpg
END:VEVENT
BEGIN:VEVENT
DTSTART;TZID=Europe/Berlin:20231224T160000
DTEND;TZID=Europe/Berlin:20231224T170000
DTSTAMP:20260421T121408
CREATED:20231221T115246Z
LAST-MODIFIED:20231221T134443Z
UID:36846-1703433600-1703437200@www.feg-wedel.de
SUMMARY:Gottesdienst an Heilig Abend
DESCRIPTION:O nein – nicht die Müllers!\nSie sind im ganzen Ort bekannt und gefürchtet: Die Müller-Kinder. Sie rauchen\, fluchen\, hauen und machen nur Ärger. Wenn ihr wissen wollt\, warum die Müller-Kinder plötzlich im Kindergottesdienst auftauchen und wie sie einer Gemeinde zu einem besonderen Heiligen Abend verhelfen\, dann kommt und seht selbst! \n \nFür diesen Gottesdienst gibt es keinen Livestream\, deshalb kommt gerne in die Gemeinde \n×
URL:https://www.feg-wedel.de/veranstaltung/gottesdienst-an-heilig-abend/
LOCATION:Gemeindehaus FeG Wedel\, Höbüschentwiete 11\, Wedel\, 22880\, Deutschland
CATEGORIES:Besondere Veranstaltung,Für Frauen,Für Kinder,Für Männer,Gottesdienst,Theater
ATTACH;FMTTYPE=image/jpeg:https://www.feg-wedel.de/wp-content/uploads/2023/12/weihnachten-2023_800x450.jpg
ORGANIZER;CN="FeG Wedel":MAILTO:gemeindebuero@feg-wedel.de
END:VEVENT
END:VCALENDAR